BEGIN:VCALENDAR
VERSION:2.0
PRODID:-//wp-events-plugin.com//7.2.3.1//EN
BEGIN:VEVENT
UID:19@rbbsrc.graycelltech.net
DTSTART:20220625T100000Z
DTEND:20220625T140000Z
DTSTAMP:20220625T055247Z
URL:https://rbbsrc.graycelltech.net/events/blood-donation-camp-crompton-gr
 eaves-consumer-electricals-ltd-baddi/
SUMMARY:Blood donation camp-Crompton Greaves Consumer Electricals Ltd. Badd
 i
DESCRIPTION:
LOCATION:\, \, 
X-APPLE-STRUCTURED-LOCATION;VALUE=URI;X-ADDRESS=\, ;X-APPLE-RADIUS=100;X-TI
 TLE=:geo:0,0
END:VEVENT
END:VCALENDAR