BEGIN:VCALENDAR
VERSION:2.0
PRODID:-//wp-events-plugin.com//7.2.3.1//EN
BEGIN:VEVENT
UID:23@rbbsrc.graycelltech.net
DTSTART:20220710T103000Z
DTEND:20220710T140000Z
DTSTAMP:20220708T042757Z
URL:https://rbbsrc.graycelltech.net/events/blood-donation-camp-falcon-view
 -club-sec-66-a-mohali/
SUMMARY:Blood donation camp-Falcon View Club\, Sec-66 A\, Mohali
DESCRIPTION:
END:VEVENT
END:VCALENDAR