BEGIN:VCALENDAR
VERSION:2.0
PRODID:-//wp-events-plugin.com//7.2.3.1//EN
BEGIN:VEVENT
UID:33@rbbsrc.graycelltech.net
DTSTART:20220903T100000Z
DTEND:20220903T130000Z
DTSTAMP:20220902T044040Z
URL:https://rbbsrc.graycelltech.net/events/blood-donation-camp-govt-model-
 school-sec-20-panchkula/
SUMMARY:Blood Donation Camp- Govt. Model School\, Sec-20\, Panchkula
DESCRIPTION:
END:VEVENT
END:VCALENDAR