BEGIN:VCALENDAR
VERSION:2.0
PRODID:-//wp-events-plugin.com//7.2.3.1//EN
BEGIN:VEVENT
UID:35@rbbsrc.graycelltech.net
DTSTART:20220905T090000Z
DTEND:20220905T140000Z
DTSTAMP:20220902T085051Z
URL:https://rbbsrc.graycelltech.net/events/blood-donation-camp-govt-primar
 y-schoolsector-20-panchkula/
SUMMARY:Blood Donation Camp-Govt Primary School\,Sector-20 Panchkula
DESCRIPTION:
END:VEVENT
END:VCALENDAR