BEGIN:VCALENDAR
VERSION:2.0
PRODID:-//wp-events-plugin.com//7.2.3.1//EN
BEGIN:VEVENT
UID:13@rbbsrc.graycelltech.net
DTSTART:20220508T100000Z
DTEND:20220508T130000Z
DTSTAMP:20220507T042509Z
URL:https://rbbsrc.graycelltech.net/events/blood-donation-camp-gurudwara-s
 ahib-kainaur-morinda-distt-ropar/
SUMMARY:Blood donation camp-Gurudwara Sahib Kainaur\, Morinda\, distt. Ropa
 r
DESCRIPTION:
END:VEVENT
END:VCALENDAR