BEGIN:VCALENDAR
VERSION:2.0
PRODID:-//wp-events-plugin.com//7.2.3.1//EN
BEGIN:VEVENT
UID:36@rbbsrc.graycelltech.net
DTSTART:20220907T100000Z
DTEND:20220907T160000Z
DTSTAMP:20220902T085252Z
URL:https://rbbsrc.graycelltech.net/events/blood-donation-camp-indian-scho
 ol-of-business/
SUMMARY:Blood Donation Camp -Indian School of Business
DESCRIPTION:
END:VEVENT
END:VCALENDAR