BEGIN:VCALENDAR
VERSION:2.0
PRODID:-//wp-events-plugin.com//7.2.3.1//EN
BEGIN:VEVENT
UID:34@rbbsrc.graycelltech.net
DTSTART:20220904T100000Z
DTEND:20220904T140000Z
DTSTAMP:20220902T050115Z
URL:https://rbbsrc.graycelltech.net/events/blood-donation-camp-main-gurudw
 ara-sahib-chunni-kalan-fatehgarh-sahib/
SUMMARY:Blood Donation Camp-Main Gurudwara Sahib\, Chunni Kalan \, Fatehgar
 h Sahib.
DESCRIPTION:
END:VEVENT
END:VCALENDAR