BEGIN:VCALENDAR
VERSION:2.0
PRODID:-//wp-events-plugin.com//7.2.3.1//EN
BEGIN:VEVENT
UID:37@rbbsrc.graycelltech.net
DTSTART:20230305T100000Z
DTEND:20230305T150000Z
DTSTAMP:20230303T043938Z
URL:https://rbbsrc.graycelltech.net/events/blood-donation-camp-on-05-03-20
 23-at-g-s-resort-amrawati-baddi/
SUMMARY:Blood Donation Camp on 05.03.2023 at G.S. Resort\, Amrawati\, Baddi
DESCRIPTION:o
END:VEVENT
END:VCALENDAR