BEGIN:VCALENDAR
VERSION:2.0
PRODID:-//wp-events-plugin.com//7.2.3.1//EN
BEGIN:VEVENT
UID:77@rbbsrc.graycelltech.net
DTSTART:20230530T100000Z
DTEND:20230530T140000Z
DTSTAMP:20230529T085856Z
URL:https://rbbsrc.graycelltech.net/events/blood-donation-camp-on-omaxe-cl
 ub-omaxe-phase1-new-chandigarh/
SUMMARY:Blood Donation Camp on Omaxe Club Omaxe Phase1\, New Chandigarh.
DESCRIPTION:
END:VEVENT
END:VCALENDAR