BEGIN:VCALENDAR
VERSION:2.0
PRODID:-//wp-events-plugin.com//7.2.3.1//EN
BEGIN:VEVENT
UID:25@rbbsrc.graycelltech.net
DTSTART:20220716T090000Z
DTEND:20220716T133000Z
DTSTAMP:20220715T041250Z
URL:https://rbbsrc.graycelltech.net/events/blood-donation-camp-prvcc-build
 ing-sec-5parwanoo/
SUMMARY:Blood donation camp-RPVCC Building\, Sec-5\,Parwanoo
DESCRIPTION:
LOCATION:\, \, 
X-APPLE-STRUCTURED-LOCATION;VALUE=URI;X-ADDRESS=\, ;X-APPLE-RADIUS=100;X-TI
 TLE=:geo:0,0
END:VEVENT
END:VCALENDAR