BEGIN:VCALENDAR
VERSION:2.0
PRODID:-//wp-events-plugin.com//7.2.3.1//EN
BEGIN:VEVENT
UID:21@rbbsrc.graycelltech.net
DTSTART:20220703T090000Z
DTEND:20220703T140000Z
DTSTAMP:20220701T044956Z
URL:https://rbbsrc.graycelltech.net/events/blood-donation-camp-ropar-3/
SUMMARY:Blood donation camp-Saini Bhawan\, Ropar
DESCRIPTION:
END:VEVENT
END:VCALENDAR