BEGIN:VCALENDAR
VERSION:2.0
PRODID:-//wp-events-plugin.com//7.2.3.1//EN
BEGIN:VEVENT
UID:2@rbbsrc.graycelltech.net
DTSTART:20220414T093000Z
DTEND:20220414T120000Z
DTSTAMP:20220413T051345Z
URL:https://rbbsrc.graycelltech.net/events/blood-donation-camp-ropar/
SUMMARY:Blood donation camp-Gurudwara Tibbi Sahib\, Ropar
DESCRIPTION:
END:VEVENT
END:VCALENDAR