BEGIN:VCALENDAR
VERSION:2.0
PRODID:-//wp-events-plugin.com//7.2.3.1//EN
BEGIN:VEVENT
UID:18@rbbsrc.graycelltech.net
DTSTART:20220622T120000Z
DTEND:20220622T150000Z
DTSTAMP:20220618T044600Z
URL:https://rbbsrc.graycelltech.net/events/blood-donation-camp-tanishq-sec
 -17-chandigarh/
SUMMARY:Blood donation camp-Tanishq\, Sec-17\, Chandigarh
DESCRIPTION:[et_pb_section fb_built="1" admin_label="section" _builder_vers
 ion="4.16" global_colors_info="{}"][et_pb_row admin_label="row" _builder_v
 ersion="4.16" background_size="initial" background_position="top_left" bac
 kground_repeat="repeat" global_colors_info="{}"][et_pb_column type="4_4" _
 builder_version="4.16" custom_padding="|||" global_colors_info="{}" custom
 _padding__hover="|||"][/et_pb_column][/et_pb_row][/et_pb_section]
END:VEVENT
END:VCALENDAR