BEGIN:VCALENDAR
VERSION:2.0
PRODID:-//wp-events-plugin.com//7.2.3.1//EN
BEGIN:VEVENT
UID:22@rbbsrc.graycelltech.net
DTSTART:20220705T110000Z
DTEND:20220705T140000Z
DTSTAMP:20220704T053121Z
URL:https://rbbsrc.graycelltech.net/events/blood-donation-camp-ward-no-9-n
 alagarh-distt-solan/
SUMMARY:Blood donation camp-Ward no-9\, Nalagarh\, distt. Solan
DESCRIPTION:
LOCATION:\, \, 
X-APPLE-STRUCTURED-LOCATION;VALUE=URI;X-ADDRESS=\, ;X-APPLE-RADIUS=100;X-TI
 TLE=:geo:0,0
END:VEVENT
END:VCALENDAR