BEGIN:VCALENDAR
VERSION:2.0
PRODID:-//wp-events-plugin.com//7.2.3.1//EN
BEGIN:VEVENT
UID:106@rbbsrc.graycelltech.net
DTSTART:20230725T100000Z
DTEND:20230725T140000Z
DTSTAMP:20230725T045216Z
URL:https://rbbsrc.graycelltech.net/events/volunatary-blood-donation-camp-
 at-prem-nagar-railmajra-sbs-nagar-on-25-7-2023/
SUMMARY:Volunatary Blood Donation Camp at Prem Nagar\, Railmajra\, SBS Naga
 r. on 25.7.2023
DESCRIPTION:
END:VEVENT
END:VCALENDAR