BEGIN:VCALENDAR
VERSION:2.0
PRODID:-//wp-events-plugin.com//7.2.3.1//EN
BEGIN:VEVENT
UID:95@rbbsrc.graycelltech.net
DTSTART:20230627T093000Z
DTEND:20230627T123000Z
DTSTAMP:20230626T040136Z
URL:https://rbbsrc.graycelltech.net/events/voluntary-blood-donation-at-sco
 -1-to-basement-kfc-sec-8-c-madhya-marg-chandigarh-on-27-6-2023/
SUMMARY:Voluntary Blood Donation Camp at SCO 1 to\, Basement\, KFC Sec 8 C\
 , Madhya Marg\, Chandigarh. on 27.6.2023
DESCRIPTION:
END:VEVENT
END:VCALENDAR