BEGIN:VCALENDAR
VERSION:2.0
PRODID:-//wp-events-plugin.com//7.2.3.1//EN
BEGIN:VEVENT
UID:91@rbbsrc.graycelltech.net
DTSTART:20230624T100000Z
DTEND:20230624T140000Z
DTSTAMP:20230620T041808Z
URL:https://rbbsrc.graycelltech.net/events/voluntary-blood-donation-camp-a
 t-acc-ph-7-iamohali-on-24-6-2023/
SUMMARY:Voluntary Blood Donation Camp at ACC PH-7\, IA\,MOHALI . ON 24.6.20
 23
DESCRIPTION:
END:VEVENT
END:VCALENDAR