BEGIN:VCALENDAR
VERSION:2.0
PRODID:-//wp-events-plugin.com//7.2.3.1//EN
BEGIN:VEVENT
UID:66@rbbsrc.graycelltech.net
DTSTART:20230512T110000Z
DTEND:20230512T160000Z
DTSTAMP:20230512T053354Z
URL:https://rbbsrc.graycelltech.net/events/voluntary-blood-donation-camp-a
 t-antier-solutions-cafeteria-on-12-05-2023/
SUMMARY:Voluntary Blood  Donation Camp at Antier Solutions Cafeteria on 12.
 05.2023
DESCRIPTION:
END:VEVENT
END:VCALENDAR