BEGIN:VCALENDAR
VERSION:2.0
PRODID:-//wp-events-plugin.com//7.2.3.1//EN
BEGIN:VEVENT
UID:123@rbbsrc.graycelltech.net
DTSTART:20230914T093000Z
DTEND:20230914T130000Z
DTSTAMP:20230914T073901Z
URL:https://rbbsrc.graycelltech.net/events/voluntary-blood-donation-camp-a
 t-army-institute-of-law-sector-68-mohali-punjab-on-14-9-2023/
SUMMARY:Voluntary Blood Donation Camp at Army Institute of Law\, Sector 68\
 , Mohali\, Punjab.on 14.9.2023
DESCRIPTION:
END:VEVENT
END:VCALENDAR