BEGIN:VCALENDAR
VERSION:2.0
PRODID:-//wp-events-plugin.com//7.2.3.1//EN
BEGIN:VEVENT
UID:129@rbbsrc.graycelltech.net
DTSTART:20230926T100000Z
DTEND:20230926T140000Z
DTSTAMP:20230925T042502Z
URL:https://rbbsrc.graycelltech.net/events/voluntary-blood-donation-camp-a
 t-ayush-dispensary-sector-24-chandigarh-on-26-9-2023/
SUMMARY:Voluntary Blood Donation Camp at Ayush Dispensary\, Sector-24\, Cha
 ndigarh. on 26.9.2023
DESCRIPTION:
END:VEVENT
END:VCALENDAR