BEGIN:VCALENDAR
VERSION:2.0
PRODID:-//wp-events-plugin.com//7.2.3.1//EN
BEGIN:VEVENT
UID:115@rbbsrc.graycelltech.net
DTSTART:20230807T100000Z
DTEND:20230807T140000Z
DTSTAMP:20230806T074331Z
URL:https://rbbsrc.graycelltech.net/events/voluntary-blood-donation-camp-a
 t-bank-of-baroda-sector-22-b-chandigarh-on-7-8-2023/
SUMMARY:Voluntary Blood Donation Camp at Bank of Baroda \, Sector-22 B\, Ch
 andigarh on 7.8.2023
DESCRIPTION:
END:VEVENT
END:VCALENDAR