BEGIN:VCALENDAR
VERSION:2.0
PRODID:-//wp-events-plugin.com//7.2.3.1//EN
BEGIN:VEVENT
UID:112@rbbsrc.graycelltech.net
DTSTART:20230803T100000Z
DTEND:20230803T140000Z
DTSTAMP:20230802T065756Z
URL:https://rbbsrc.graycelltech.net/events/voluntary-blood-donation-camp-a
 t-bays-building-near-gpo-sector-17-chandigarh-on-3-8-2023/
SUMMARY:Voluntary Blood Donation  Camp  at Bays building (Near GPO) Sector 
 17\, Chandigarh. on 3.8.2023
DESCRIPTION:
END:VEVENT
END:VCALENDAR