BEGIN:VCALENDAR
VERSION:2.0
PRODID:-//wp-events-plugin.com//7.2.3.1//EN
BEGIN:VEVENT
UID:105@rbbsrc.graycelltech.net
DTSTART:20230724T100000Z
DTEND:20230724T160000Z
DTSTAMP:20230722T055229Z
URL:https://rbbsrc.graycelltech.net/events/voluntary-blood-donation-camp-a
 t-curetech-formulations-pvt-ltd-juddi-kalan-baddi/
SUMMARY:Voluntary Blood Donation Camp at Curetech Formulations Pvt. Ltd. Ju
 ddi Kalan\, Baddi.on 24.7.2023
DESCRIPTION:
END:VEVENT
END:VCALENDAR