BEGIN:VCALENDAR
VERSION:2.0
PRODID:-//wp-events-plugin.com//7.2.3.1//EN
BEGIN:VEVENT
UID:119@rbbsrc.graycelltech.net
DTSTART:20230902T100000Z
DTEND:20230902T140000Z
DTSTAMP:20230901T051257Z
URL:https://rbbsrc.graycelltech.net/events/voluntary-blood-donation-camp-a
 t-dera-nirmal-sant-aashram-hansaali-sar-bhartgarh-distt-ropar-on-2-9-2023/
SUMMARY:Voluntary Blood Donation Camp at Dera Nirmal-Sant Aashram Hansaali 
 Sar\, Bhartgarh\, Distt Ropar. on 2.9.2023
DESCRIPTION:
END:VEVENT
END:VCALENDAR