BEGIN:VCALENDAR
VERSION:2.0
PRODID:-//wp-events-plugin.com//7.2.3.1//EN
BEGIN:VEVENT
UID:93@rbbsrc.graycelltech.net
DTSTART:20230627T100000Z
DTEND:20230627T140000Z
DTSTAMP:20230620T042258Z
URL:https://rbbsrc.graycelltech.net/events/voluntary-blood-donation-camp-a
 t-esacalon-sector-75-mohali-on-27-6-2023/
SUMMARY:Voluntary Blood Donation Camp at Esacalon\, Sector-75\, Mohali on 2
 7.6.2023
DESCRIPTION:
END:VEVENT
END:VCALENDAR