BEGIN:VCALENDAR
VERSION:2.0
PRODID:-//wp-events-plugin.com//7.2.3.1//EN
BEGIN:VEVENT
UID:96@rbbsrc.graycelltech.net
DTSTART:20230627T143000Z
DTEND:20230627T173000Z
DTSTAMP:20230626T040351Z
URL:https://rbbsrc.graycelltech.net/events/voluntary-blood-donation-camp-a
 t-escalon-business-services-plot-no-a-40-a-second-floor-svepl-bldg-co-deve
 loper-quark-city-phase-8bsector-75-industrial-area-mohali-on-27-6-2023/
SUMMARY:Voluntary Blood Donation Camp at Escalon Business Services\, Plot
  No. A 40 A Second Floor\, SVEPL Bldg. Co-Developer Quark City \, Phase 8
 B(Sector 75) Industrial Area\, Mohali on 27.6.2023
DESCRIPTION:
END:VEVENT
END:VCALENDAR