BEGIN:VCALENDAR
VERSION:2.0
PRODID:-//wp-events-plugin.com//7.2.3.1//EN
BEGIN:VEVENT
UID:90@rbbsrc.graycelltech.net
DTSTART:20230622T100000Z
DTEND:20230622T140000Z
DTSTAMP:20230620T041701Z
URL:https://rbbsrc.graycelltech.net/events/voluntary-blood-donation-camp-a
 t-ethos-66-mohali/
SUMMARY:Voluntary Blood Donation Camp at Ethos -66\, Mohali.
DESCRIPTION:
END:VEVENT
END:VCALENDAR