BEGIN:VCALENDAR
VERSION:2.0
PRODID:-//wp-events-plugin.com//7.2.3.1//EN
BEGIN:VEVENT
UID:131@rbbsrc.graycelltech.net
DTSTART:20230929T100000Z
DTEND:20230929T140000Z
DTSTAMP:20230927T052003Z
URL:https://rbbsrc.graycelltech.net/events/voluntary-blood-donation-camp-a
 t-f-126-2-nd-floor-balaji-towers-phase-7-industrial-area-mohali-address-15
 1-tower-4-homeland-heights-sector-70-mohali-on-29-9-2023/
SUMMARY:Voluntary Blood Donation Camp at F-126\, 2 nd Floor\, Balaji Towers
 \, Phase 7 Industrial Area\, Mohali Address : 151\, Tower 4\, Homeland hei
 ghts\, Sector 70\, Mohali on 29.9.2023
DESCRIPTION:
END:VEVENT
END:VCALENDAR