BEGIN:VCALENDAR
VERSION:2.0
PRODID:-//wp-events-plugin.com//7.2.3.1//EN
BEGIN:VEVENT
UID:126@rbbsrc.graycelltech.net
DTSTART:20230921T100000Z
DTEND:20230921T141500Z
DTSTAMP:20230920T082009Z
URL:https://rbbsrc.graycelltech.net/events/voluntary-blood-donation-camp-a
 t-fresenius-kabi-oncology-ltd-kishanpura-gurumajra-nalagarh-road-baddi-on-
 21-9-2023/
SUMMARY:Voluntary Blood Donation Camp at Fresenius Kabi Oncology Ltd. Kis
 hanpura\, Gurumajra\, Nalagarh road\, Baddi. on 21..9.2023
DESCRIPTION:
END:VEVENT
END:VCALENDAR