BEGIN:VCALENDAR
VERSION:2.0
PRODID:-//wp-events-plugin.com//7.2.3.1//EN
BEGIN:VEVENT
UID:99@rbbsrc.graycelltech.net
DTSTART:20230707T093000Z
DTEND:20230707T133000Z
DTSTAMP:20230705T082858Z
URL:https://rbbsrc.graycelltech.net/events/voluntary-blood-donation-camp-a
 t-gulati-bhawan-sec-33-chandigarh-on-7-7-2023/
SUMMARY:Voluntary Blood Donation Camp at Gulati Bhawan\, Sec-33\, Chandigar
 h. on 7.7.2023
DESCRIPTION:
END:VEVENT
END:VCALENDAR