BEGIN:VCALENDAR
VERSION:2.0
PRODID:-//wp-events-plugin.com//7.2.3.1//EN
BEGIN:VEVENT
UID:110@rbbsrc.graycelltech.net
DTSTART:20230801T090000Z
DTEND:20230801T140000Z
DTSTAMP:20230731T051825Z
URL:https://rbbsrc.graycelltech.net/events/voluntary-blood-donation-camp-a
 t-guru-nanak-transport-morinda-on-1-8-2023/
SUMMARY:Voluntary Blood Donation Camp at Guru Nanak Transport\, Morinda. on
  1.8.2023
DESCRIPTION:
END:VEVENT
END:VCALENDAR