BEGIN:VCALENDAR
VERSION:2.0
PRODID:-//wp-events-plugin.com//7.2.3.1//EN
BEGIN:VEVENT
UID:98@rbbsrc.graycelltech.net
DTSTART:20230706T093000Z
DTEND:20230706T133000Z
DTSTAMP:20230705T082754Z
URL:https://rbbsrc.graycelltech.net/events/voluntary-blood-donation-camp-a
 t-gurudwara-sector-10-near-karan-palace-ambala-city-on-6-7-2023/
SUMMARY:Voluntary Blood Donation Camp at Gurudwara\, Sector 10\, Near Karan
  Palace\, Ambala City on 6.7.2023
DESCRIPTION:
END:VEVENT
END:VCALENDAR