BEGIN:VCALENDAR
VERSION:2.0
PRODID:-//wp-events-plugin.com//7.2.3.1//EN
BEGIN:VEVENT
UID:69@rbbsrc.graycelltech.net
DTSTART:20230514T100000Z
DTEND:20230514T130000Z
DTSTAMP:20230512T053723Z
URL:https://rbbsrc.graycelltech.net/events/voluntary-blood-donation-camp-a
 t-gurudwara-village-singh-distt-ropar-on-14-05-2023/
SUMMARY:Voluntary Blood  Donation Camp at Gurudwara village Singh\, Distt. 
 Ropar on 14.05.2023
DESCRIPTION:
END:VEVENT
END:VCALENDAR