BEGIN:VCALENDAR
VERSION:2.0
PRODID:-//wp-events-plugin.com//7.2.3.1//EN
BEGIN:VEVENT
UID:103@rbbsrc.graycelltech.net
DTSTART:20230722T090000Z
DTEND:20230722T130000Z
DTSTAMP:20230720T035814Z
URL:https://rbbsrc.graycelltech.net/events/voluntary-blood-donation-camp-a
 t-hallmark-public-school-sector-15-panchkula-on-2-7-2023/
SUMMARY:Voluntary Blood Donation Camp at Hallmark Public School\, Sector- 1
 5\, Panchkula. on 2.7.2023
DESCRIPTION:
END:VEVENT
END:VCALENDAR