BEGIN:VCALENDAR
VERSION:2.0
PRODID:-//wp-events-plugin.com//7.2.3.1//EN
BEGIN:VEVENT
UID:108@rbbsrc.graycelltech.net
DTSTART:20230730T083000Z
DTEND:20230730T113000Z
DTSTAMP:20230728T062829Z
URL:https://rbbsrc.graycelltech.net/events/voluntary-blood-donation-camp-a
 t-kamboj-dharmshala-bandia-bassi-banur-mohali/
SUMMARY:Voluntary Blood Donation Camp at Kamboj Dharmshala Bandia Bassi \, 
 Banur\, Mohali .
DESCRIPTION:
END:VEVENT
END:VCALENDAR