BEGIN:VCALENDAR
VERSION:2.0
PRODID:-//wp-events-plugin.com//7.2.3.1//EN
BEGIN:VEVENT
UID:92@rbbsrc.graycelltech.net
DTSTART:20230627T100000Z
DTEND:20230627T140000Z
DTSTAMP:20230620T041904Z
URL:https://rbbsrc.graycelltech.net/events/voluntary-blood-donation-camp-a
 t-kfc-sector-8-chd/
SUMMARY:Voluntary Blood Donation Camp at KFC\, SECTOR-8\, CHD.
DESCRIPTION:
END:VEVENT
END:VCALENDAR