BEGIN:VCALENDAR
VERSION:2.0
PRODID:-//wp-events-plugin.com//7.2.3.1//EN
BEGIN:VEVENT
UID:132@rbbsrc.graycelltech.net
DTSTART:20231005T100000Z
DTEND:20231005T140000Z
DTSTAMP:20231005T060531Z
URL:https://rbbsrc.graycelltech.net/events/voluntary-blood-donation-camp-a
 t-khalsa-college-mohali-on-5-10-2023/
SUMMARY:Voluntary Blood Donation Camp at Khalsa College Mohali on 5.10.2023
DESCRIPTION:
END:VEVENT
END:VCALENDAR