BEGIN:VCALENDAR
VERSION:2.0
PRODID:-//wp-events-plugin.com//7.2.3.1//EN
BEGIN:VEVENT
UID:97@rbbsrc.graycelltech.net
DTSTART:20230628T100000Z
DTEND:20230628T150000Z
DTSTAMP:20230628T032015Z
URL:https://rbbsrc.graycelltech.net/events/voluntary-blood-donation-camp-a
 t-luxmi-market-sector-38-d-chandigarh-on-28-6-2023/
SUMMARY:Voluntary Blood Donation Camp at Luxmi Market\, Sector 38 D\, Chand
 igarh. on 28.6.2023
DESCRIPTION:
END:VEVENT
END:VCALENDAR