BEGIN:VCALENDAR
VERSION:2.0
PRODID:-//wp-events-plugin.com//7.2.3.1//EN
BEGIN:VEVENT
UID:104@rbbsrc.graycelltech.net
DTSTART:20230720T093000Z
DTEND:20230720T150000Z
DTSTAMP:20230720T035919Z
URL:https://rbbsrc.graycelltech.net/events/voluntary-blood-donation-camp-a
 t-mahindra-swaraj-r-d-phase-6-ind-area-mohali-on-20-7-2023/
SUMMARY:Voluntary Blood Donation Camp at Mahindra Swaraj R &amp\; D\, Phase
  -6\, Ind. Area\, Mohali. on 20.7.2023
DESCRIPTION:
END:VEVENT
END:VCALENDAR