BEGIN:VCALENDAR
VERSION:2.0
PRODID:-//wp-events-plugin.com//7.2.3.1//EN
BEGIN:VEVENT
UID:102@rbbsrc.graycelltech.net
DTSTART:20230719T100000Z
DTEND:20230719T160000Z
DTSTAMP:20230718T074114Z
URL:https://rbbsrc.graycelltech.net/events/voluntary-blood-donation-camp-a
 t-market-sector-34-chandigarh-on-19-7-2023/
SUMMARY:Voluntary Blood Donation Camp at Market \, Sector-34\, Chandigarh o
 n 19.7.2023
DESCRIPTION:
END:VEVENT
END:VCALENDAR