BEGIN:VCALENDAR
VERSION:2.0
PRODID:-//wp-events-plugin.com//7.2.3.1//EN
BEGIN:VEVENT
UID:117@rbbsrc.graycelltech.net
DTSTART:20230810T100000Z
DTEND:20230810T160000Z
DTSTAMP:20230808T061153Z
URL:https://rbbsrc.graycelltech.net/events/voluntary-blood-donation-camp-a
 t-max-healthcare-clinic-indian-school-of-business-mohali-on-10-8-2023/
SUMMARY:Voluntary Blood Donation Camp at Max healthcare clinic\, Indian Sch
 ool of Business\, Mohali. on 10.8.2023
DESCRIPTION:
END:VEVENT
END:VCALENDAR