BEGIN:VCALENDAR
VERSION:2.0
PRODID:-//wp-events-plugin.com//7.2.3.1//EN
BEGIN:VEVENT
UID:118@rbbsrc.graycelltech.net
DTSTART:20230829T100000Z
DTEND:20230829T130000Z
DTSTAMP:20230828T104842Z
URL:https://rbbsrc.graycelltech.net/events/voluntary-blood-donation-camp-a
 t-milestone-gears-pvt-ltd-unit-8-on-29-8-2023/
SUMMARY:Voluntary Blood Donation Camp at Milestone Gears Pvt Ltd unit-8\, B
 arotiwala \,Baddi. on 29.8.2023
DESCRIPTION:
END:VEVENT
END:VCALENDAR