BEGIN:VCALENDAR
VERSION:2.0
PRODID:-//wp-events-plugin.com//7.2.3.1//EN
BEGIN:VEVENT
UID:125@rbbsrc.graycelltech.net
DTSTART:20230920T100000Z
DTEND:20230920T143000Z
DTSTAMP:20230920T081855Z
URL:https://rbbsrc.graycelltech.net/events/voluntary-blood-donation-camp-a
 t-nmims-university-on-20-9-2023/
SUMMARY:Voluntary Blood Donation Camp at NMIMS University on 20.9.2023
DESCRIPTION:
END:VEVENT
END:VCALENDAR