BEGIN:VCALENDAR
VERSION:2.0
PRODID:-//wp-events-plugin.com//7.2.3.1//EN
BEGIN:VEVENT
UID:89@rbbsrc.graycelltech.net
DTSTART:20230617T093000Z
DTEND:20230617T133000Z
DTSTAMP:20230616T052704Z
URL:https://rbbsrc.graycelltech.net/events/voluntary-blood-donation-camp-a
 t-pinetree-packaging-katha-baddi-on-17-6-2023/
SUMMARY:VOLUNTARY BLOOD DONATION CAMP AT PINETREE PACKAGING \,KATHA\, BADDI
 . ON 17.6.2023
DESCRIPTION:
END:VEVENT
END:VCALENDAR