BEGIN:VCALENDAR
VERSION:2.0
PRODID:-//wp-events-plugin.com//7.2.3.1//EN
BEGIN:VEVENT
UID:57@rbbsrc.graycelltech.net
DTSTART:20230421T100000Z
DTEND:20230421T140000Z
DTSTAMP:20230419T071739Z
URL:https://rbbsrc.graycelltech.net/events/voluntary-blood-donation-camp-a
 t-plot-no-162-jlpl-industrial-sector-82-mohali-on-21-04-2023/
SUMMARY:Voluntary Blood Donation Camp at Plot No. 162\, JLPL Industrial Sec
 tor – 82\, Mohali on 21.04.2023
DESCRIPTION:
END:VEVENT
END:VCALENDAR