BEGIN:VCALENDAR
VERSION:2.0
PRODID:-//wp-events-plugin.com//7.2.3.1//EN
BEGIN:VEVENT
UID:111@rbbsrc.graycelltech.net
DTSTART:20230802T093000Z
DTEND:20230802T123000Z
DTSTAMP:20230802T065651Z
URL:https://rbbsrc.graycelltech.net/events/voluntary-blood-donation-camp-a
 t-punjab-haryana-high-court-chandigarh-on-2-8-2023/
SUMMARY:Voluntary Blood Donation  Camp  at  Punjab &amp\; Haryana High Cour
 t\, Chandigarh. on  2.8.2023
DESCRIPTION:
END:VEVENT
END:VCALENDAR