BEGIN:VCALENDAR
VERSION:2.0
PRODID:-//wp-events-plugin.com//7.2.3.1//EN
BEGIN:VEVENT
UID:68@rbbsrc.graycelltech.net
DTSTART:20230513T090000Z
DTEND:20230513T153000Z
DTSTAMP:20230512T053620Z
URL:https://rbbsrc.graycelltech.net/events/voluntary-blood-donation-camp-a
 t-rbbsrc-37-a-chandigarh-on-13-5-2023/
SUMMARY:Voluntary Blood  Donation Camp at RBBSRC-37-A\, Chandigarh on 13.5.
 2023
DESCRIPTION:
END:VEVENT
END:VCALENDAR