BEGIN:VCALENDAR
VERSION:2.0
PRODID:-//wp-events-plugin.com//7.2.3.1//EN
BEGIN:VEVENT
UID:127@rbbsrc.graycelltech.net
DTSTART:20230923T100000Z
DTEND:20230923T150000Z
DTSTAMP:20230922T040212Z
URL:https://rbbsrc.graycelltech.net/events/voluntary-blood-donation-camp-a
 t-rbbsrc-37-a-chandigarh/
SUMMARY:Voluntary Blood Donation Camp at RBBSRC 37 A\, Chandigarh
DESCRIPTION:
END:VEVENT
END:VCALENDAR