BEGIN:VCALENDAR
VERSION:2.0
PRODID:-//wp-events-plugin.com//7.2.3.1//EN
BEGIN:VEVENT
UID:122@rbbsrc.graycelltech.net
DTSTART:20230911T100000Z
DTEND:20230911T170000Z
DTSTAMP:20230911T042007Z
URL:https://rbbsrc.graycelltech.net/events/voluntary-blood-donation-camp-a
 t-rbbsrc-37a-chandigarh-on-11-9-2023/
SUMMARY:Voluntary Blood Donation Camp at RBBSRC-37A\, Chandigarh. on 11.9.2
 023
DESCRIPTION:
END:VEVENT
END:VCALENDAR