BEGIN:VCALENDAR
VERSION:2.0
PRODID:-//wp-events-plugin.com//7.2.3.1//EN
BEGIN:VEVENT
UID:133@rbbsrc.graycelltech.net
DTSTART:20231007T090000Z
DTEND:20231007T140000Z
DTSTAMP:20231005T060720Z
URL:https://rbbsrc.graycelltech.net/events/voluntary-blood-donation-camp-a
 t-rpvcc-rotary-club-sector-5-parwanoo-on-7-10-2023/
SUMMARY:Voluntary Blood Donation Camp at RPVCC\, Rotary Club\, Sector 5\, P
 arwanoo. on 7.10.2023
DESCRIPTION:
END:VEVENT
END:VCALENDAR